BEGIN:VCALENDAR
VERSION:2.0
PRODID:-//eventon.com NONSGML v1.0//EN
CALSCALE:GREGORIAN
METHOD:PUBLISH
BEGIN:VEVENT
UID:69e4cd0919457
DTSTAMP:20260419T123937Z
DTSTART:20220302T040000Z
DTEND:20220302T055000Z
LOCATION:Rain on 4th 217 W 4th St\,  Austin\,  TX 78701
SUMMARY:Austin's Next Drag Superstar
DESCRIPTION:Join host Nadine Hughes and her drag rookies every Tuesday nigh
 t starting at 10pm for a weekly competition to find Austin&#8217;s Next Dra
 g Superstar! Sponsored by Deep Eddy&#8217;s Tasting Room • No cover for 2
 1 and up• 18 to 20 starting at 10pm w/$5 cover\nhttps://www.therepubliq.c
 om/events/austins-next-drag-superstar/
URL:https://www.therepubliq.com/events/austins-next-drag-superstar/
END:VEVENT
END:VCALENDAR