BEGIN:VCALENDAR
VERSION:2.0
PRODID:-//eventon.com NONSGML v1.0//EN
CALSCALE:GREGORIAN
METHOD:PUBLISH
BEGIN:VEVENT
UID:69e89b467b5ec
DTSTAMP:20260422T095622Z
DTSTART:20230830T030000Z
DTEND:20230830T045000Z
LOCATION:Rain on 4th 217 W 4th St\,  Austin\,  TX 78701
SUMMARY:B.Y.O.T.: Open Mic Night
DESCRIPTION:Bring your own talent down to 4th Street the last Tuesday night
  of each month with Open Mic Night hosted by Basüra. 18+ starting at 10 PM
  with $5 cover. No cover for 21+ before MIDNIGHT.\nhttps://www.therepubliq.
 com/events/b-y-o-t-open-mic-night/
URL:https://www.therepubliq.com/events/b-y-o-t-open-mic-night/
END:VEVENT
END:VCALENDAR