BEGIN:VCALENDAR
VERSION:2.0
PRODID:-//eventon.com NONSGML v1.0//EN
CALSCALE:GREGORIAN
METHOD:PUBLISH
BEGIN:VEVENT
UID:69e88a32b5b81
DTSTAMP:20260422T084330Z
DTSTART:20230916T020000Z
DTEND:20230916T033000Z
LOCATION:The Creek and The Cave 611 E 7th St\,  Austin TX 78701
SUMMARY:Stanzi Potenza
DESCRIPTION:Stanzi Potenza is a Boston Native now based in Los Angeles. She
  is a trained Actor\,  Comedian\,  and Digital Creator with a rabid fan bas
 e of over 5 million. Stanzi is known for her viral sketches\,  comedic comm
 entary and as the host of the popular weekly podcast What Fresh Hell[..]\nh
 ttps://www.therepubliq.com/events/stanzi-potenza-23091521/
URL:https://www.therepubliq.com/events/stanzi-potenza-23091521/
END:VEVENT
END:VCALENDAR