BEGIN:VCALENDAR
VERSION:2.0
PRODID:-//eventon.com NONSGML v1.0//EN
CALSCALE:GREGORIAN
METHOD:PUBLISH
BEGIN:VEVENT
UID:69e88c1d7a95a
DTSTAMP:20260422T085141Z
DTSTART:20230730T200000Z
DTEND:20230730T220000Z
LOCATION:Oilcan Harry's 211 W 4th St\,  Austin\,  TX 78701
SUMMARY:TDRL: Total Drag Request Live
DESCRIPTION:Join us every Sunday starting at 4 PM for TDRL: Total Drag Requ
 est Live hosted by Celia Light &amp; DeeGee Rey. It’s say-what-you-want S
 undays\,  a drag show where the audience gets to choose what goes down! Buy
  a drink\,  request a song &#8211; it’s that easy! DeeGee Rey and Celia[.
 .]\nhttps://www.therepubliq.com/events/tdrl-total-drag-request-live/
URL:https://www.therepubliq.com/events/tdrl-total-drag-request-live/
END:VEVENT
END:VCALENDAR