BEGIN:VCALENDAR
VERSION:2.0
PRODID:-//eventon.com NONSGML v1.0//EN
CALSCALE:GREGORIAN
METHOD:PUBLISH
BEGIN:VEVENT
UID:69e88a6b9e09d
DTSTAMP:20260422T084427Z
DTSTART:20230916T023000Z
DTEND:20230916T045000Z
LOCATION:Austin Eagle 8201 Cross Park Dr\,  Austin TX 78723
SUMMARY:Onyx Pearls Lustre Southwest Monthly Bar Night
DESCRIPTION:Onyx Pearls Lustre Southwest’s bar nights at the Austin Eagle
  have been set for EVERY 3rd Friday! Each month a themed night to come toge
 ther and release the week. OPLSW Lustre shots will be on deck at the hands 
 of the gorgeous bartenders at the Austin Eagle. We will have[..]\nhttps://w
 ww.therepubliq.com/events/onyx-pearls-lustre-southwest-monthly-bar-night/va
 r/ri-1.l-L1
URL:https://www.therepubliq.com/events/onyx-pearls-lustre-southwest-monthly-bar-night/var/ri-1.l-L1
END:VEVENT
END:VCALENDAR