BEGIN:VCALENDAR
VERSION:2.0
PRODID:-//eventon.com NONSGML v1.0//EN
CALSCALE:GREGORIAN
METHOD:PUBLISH
BEGIN:VEVENT
UID:69e8898bc1ea0
DTSTAMP:20260422T084043Z
DTSTART:20220105T040000Z
DTEND:20220105T080000Z
LOCATION:Barbarella 611 Red River St\,  Austin TX 78701
SUMMARY:Tuezgayz
DESCRIPTION:Weekly Tuesday night LGBTQIA+ dance party hosted by TheGlitoris
  at Barbarella on Red River. Doors open 10 PM. $5 cover.\nhttps://www.there
 publiq.com/events/barbarella-tuezgayz/
URL:https://www.therepubliq.com/events/barbarella-tuezgayz/
END:VEVENT
END:VCALENDAR