BEGIN:VCALENDAR
VERSION:2.0
PRODID:-//eventon.com NONSGML v1.0//EN
CALSCALE:GREGORIAN
METHOD:PUBLISH
BEGIN:VEVENT
UID:69eaff41672bc
DTSTAMP:20260424T052729Z
DTSTART:20221012T020000Z
DTEND:20221012T030000Z
LOCATION:Swan Dive 615 Red River St\,  Austin TX 78701
SUMMARY:Vanguard: The Drag Revolution
DESCRIPTION:Hit up Red River EVERY Tuesday night at Swan Dive (9PM) for Aus
 tin’s premier Queer Cultural Phenomenon! Hosted by Hermajestie The Hung a
 nd ALWAYS featuring an INCREDIBLE lineup of mind blowing drag followed by Q
 ueeraoke w/ Cupcake AND the ICONIC Tuezgayz DANCE PARTY!\nhttps://www.there
 publiq.com/events/vanguard-the-drag-revolution/var/ri-32.l-L1
URL:https://www.therepubliq.com/events/vanguard-the-drag-revolution/var/ri-32.l-L1
END:VEVENT
END:VCALENDAR