BEGIN:VCALENDAR
VERSION:2.0
PRODID:-//eventon.com NONSGML v1.0//EN
CALSCALE:GREGORIAN
METHOD:PUBLISH
BEGIN:VEVENT
UID:69e889ca725aa
DTSTAMP:20260422T084146Z
DTSTART:20220430T000000Z
DTEND:20220430T030000Z
LOCATION:The Kleberg at ZACH 1421 W Riverside Dr\,  Austin TX 78704
SUMMARY:<em>Somebody Loves You\,  Mr. Hatch</em>
DESCRIPTION:From the Emmy Award-winning creator of â€śThe Biscuit Brothersâ
 €ť and Tortoise and Hare comes a new musical based on the beloved childrenâ
 €™s book. Mr. Hatch is a lonely man leading a ho-hum life until one Valenti
 neâ€™s Day he receives a note that reads â€śSomebody loves youâ€ť â€¦and ev
 erything changes. With[..]\nhttps://www.therepubliq.com/events/zach-somebod
 y-loves-you-mr-hatch/
URL:https://www.therepubliq.com/events/zach-somebody-loves-you-mr-hatch/
END:VEVENT
END:VCALENDAR