BEGIN:VCALENDAR
VERSION:2.0
PRODID:-//eventon.com NONSGML v1.0//EN
CALSCALE:GREGORIAN
METHOD:PUBLISH
BEGIN:VEVENT
UID:69e88951bad05
DTSTAMP:20260422T083945Z
DTSTART:20221006T000000Z
DTEND:20221006T010000Z
LOCATION:
SUMMARY:Reading the Rainbow: Virtual LGBTQIA Book Club
DESCRIPTION:We invite you to participate in Austin Public Library&#8216;s L
 GBTQIA+ book club\,  Reading the Rainbow! This month\,  we are reading Car
 milla by Joseph Sheridan Le Fanu\,  available for free in both downloadabl
 e eBook and Audiobook formats with your library card. Please register on Ev
 entbrite to attend. Using your registration info\,  your book[..]\nhttps://
 www.therepubliq.com/events/reading-the-rainbow-october-2022/
URL:https://www.therepubliq.com/events/reading-the-rainbow-october-2022/
END:VEVENT
END:VCALENDAR