BEGIN:VCALENDAR
VERSION:2.0
PRODID:-//eventon.com NONSGML v1.0//EN
CALSCALE:GREGORIAN
METHOD:PUBLISH
BEGIN:VEVENT
UID:69e88892adeed
DTSTAMP:20260422T083634Z
DTSTART:20220227T033000Z
DTEND:20220227T080000Z
LOCATION:Harry&#039;s Dark Bar at Oilcan Harry&#039;s 211 W 4th St\,  Austin\,  TX 78701
SUMMARY:Paws on 4th: Pup Night
DESCRIPTION:Join us every 4th Saturday of the month starting at 9:30PM for 
 Paws on 4th! It&#8217;s Pup Night! We&#8217;ll have drink specials\,  no co
 ver and a puppy play area! Sponsored by The Foundry ATX\,  Sir Rat Leather 
 &amp; Gear\,  and the Boop Society of Central Texas.\nhttps://www.therepubl
 iq.com/events/harrys-dark-bar-paws-on-4th/var/ri-1.l-L1
URL:https://www.therepubliq.com/events/harrys-dark-bar-paws-on-4th/var/ri-1.l-L1
END:VEVENT
END:VCALENDAR