BEGIN:VCALENDAR
VERSION:2.0
PRODID:-//eventon.com NONSGML v1.0//EN
CALSCALE:GREGORIAN
METHOD:PUBLISH
BEGIN:VEVENT
UID:69e5921f70213
DTSTAMP:20260420T024031Z
DTSTART:20230804T030000Z
DTEND:20230804T045000Z
LOCATION:Oilcan Harry's 211 W 4th St\,  Austin\,  TX 78701
SUMMARY:Kream!
DESCRIPTION:You&#8217;re going to Kream! over our Thursday night drag show!
  Join Cupcake\,  Noodles\,  Mandy Quinn\,  Lotion\,  DJ Ruby Knight and the
 ir weekly special guests every thirsty Thursday starting at 10 PM for a nig
 ht you won&#8217;t forget! \nhttps://www.therepubliq.com/events/kream/
URL:https://www.therepubliq.com/events/kream/
END:VEVENT
END:VCALENDAR