BEGIN:VCALENDAR
VERSION:2.0
PRODID:-//eventon.com NONSGML v1.0//EN
CALSCALE:GREGORIAN
METHOD:PUBLISH
BEGIN:VEVENT
UID:69e89c5398c73
DTSTAMP:20260422T100051Z
DTSTART:20220408T010000Z
DTEND:20220408T040000Z
LOCATION:Bass Concert Hall 2350 Robert Dedman Dr\,  Austin TX 78712
SUMMARY:Disney's <em>The Lion King</em>
DESCRIPTION:A lively stage adaptation of the Academy Award-winning 1994 Dis
 ney film\, &nbsp;THE LION KING is&nbsp;the story of a young lion prince liv
 ing in the flourishing African Pride Lands. Born into the royal family\,  p
 recocious cub Simba spends his days exploring the sprawling savanna grassla
 nds and idolizing his kingly father\,  Mufasa\,  while[..]\nhttps://www.the
 republiq.com/events/disneys-the-lion-king/
URL:https://www.therepubliq.com/events/disneys-the-lion-king/
END:VEVENT
END:VCALENDAR